BEGIN:VCALENDAR
VERSION:2.0
PRODID:-//Quail Hollow Homeowners Association - ECPv6.15.20//NONSGML v1.0//EN
CALSCALE:GREGORIAN
METHOD:PUBLISH
X-ORIGINAL-URL:https://quailhollowsubdivision.org
X-WR-CALDESC:Events for Quail Hollow Homeowners Association
REFRESH-INTERVAL;VALUE=DURATION:PT1H
X-Robots-Tag:noindex
X-PUBLISHED-TTL:PT1H
BEGIN:VTIMEZONE
TZID:UTC
BEGIN:STANDARD
TZOFFSETFROM:+0000
TZOFFSETTO:+0000
TZNAME:UTC
DTSTART:20170101T000000
END:STANDARD
END:VTIMEZONE
BEGIN:VEVENT
DTSTART;TZID=UTC:20250619T180000
DTEND;TZID=UTC:20250619T190000
DTSTAMP:20260424T162850
CREATED:20250602T235951Z
LAST-MODIFIED:20250602T235951Z
UID:623-1750356000-1750359600@quailhollowsubdivision.org
SUMMARY:Quail Hollow Annual Meeting
DESCRIPTION:Our annual HOA meeting has been scheduled for Thursday\, June 19th\, 2025 at 6:00pm at the Bendall home (5126 Bitter Creek Place). We will have updates on projects throughout the community\, financial report\, and time for community conversation. Please bring your own lawn chairs as we will enjoy the meeting outdoors. \nDues will be accepted at this time as well even though they are due by July 1st. Dues are due annually and are $400. You can either pay the full amount in July OR you can do 2 installments of $200 through July and by October 1st. We accept cash or check and checks need to be made payable to “Quail Hollow HOA”. Please do not write checks out to anyone else on behalf of the HOA. If you have any questions regarding dues\, please contact our treasurer\, Chrystal Marner\, at 260-573-9884 (call or text) or email at chrystalmarner@live.com. \nIf you have any questions for the board\, Mike Bendall (President)\, Scott Stuteville (Vice President)\, and Chrystal Marner (Treasurer) can always be reached at board@quailhollowsubdivision.org
URL:https://quailhollowsubdivision.org/event/quail-hollow-annual-meeting/
ATTACH;FMTTYPE=image/jpeg:https://quailhollowsubdivision.org/wp-content/uploads/2022/07/unnamed.jpg
END:VEVENT
BEGIN:VEVENT
DTSTART;VALUE=DATE:20231001
DTEND;VALUE=DATE:20231002
DTSTAMP:20260424T162850
CREATED:20220706T201202Z
LAST-MODIFIED:20220706T201202Z
UID:600-1696118400-1696204799@quailhollowsubdivision.org
SUMMARY:Annual Dues are Due (2nd Installment)
DESCRIPTION:Annual dues are $400 and are due on July 1st. If you choose to do two installments\, $200 is due on July 1st and October 1st to total $400. Please contact us if you have any questions about your dues.
URL:https://quailhollowsubdivision.org/event/annual-dues-are-due-2nd-installment-2/
ATTACH;FMTTYPE=image/png:https://quailhollowsubdivision.org/wp-content/uploads/2018/12/deadline.png
END:VEVENT
BEGIN:VEVENT
DTSTART;VALUE=DATE:20230701
DTEND;VALUE=DATE:20230702
DTSTAMP:20260424T162850
CREATED:20220706T201058Z
LAST-MODIFIED:20220706T201058Z
UID:598-1688169600-1688255999@quailhollowsubdivision.org
SUMMARY:Annual Dues are Due
DESCRIPTION:Annual dues are $400 and are due on July 1st. If you choose to do two installments\, $200 is due on July 1st and October 1st to total $400. Please contact us if you have any questions about your dues.
URL:https://quailhollowsubdivision.org/event/annual-dues-are-due-2/
ATTACH;FMTTYPE=image/png:https://quailhollowsubdivision.org/wp-content/uploads/2018/12/deadline.png
END:VEVENT
BEGIN:VEVENT
DTSTART;TZID=UTC:20221101T080000
DTEND;TZID=UTC:20221121T170000
DTSTAMP:20260424T162850
CREATED:20220706T201450Z
LAST-MODIFIED:20220706T201450Z
UID:602-1667289600-1669050000@quailhollowsubdivision.org
SUMMARY:5th Annual Thanksgiving Food Drive
DESCRIPTION:The annual tradition returns! November 1-21\, you can drop off any nonperishable food items to the blue bin at the end of Chrystal Marner’s driveway (5207 Halley View Run; 3rd house on the right after the entrance). She will take all donated items to the Community Harvest Food Bank the week of Thanksgiving to help our fellow citizens in need. Thank you for your years of incredible generosity and we hope for another great year!
URL:https://quailhollowsubdivision.org/event/5th-annual-thanksgiving-food-drive/
ATTACH;FMTTYPE=image/jpeg:https://quailhollowsubdivision.org/wp-content/uploads/2021/11/0001.jpg
END:VEVENT
BEGIN:VEVENT
DTSTART;VALUE=DATE:20221001
DTEND;VALUE=DATE:20221002
DTSTAMP:20260424T162850
CREATED:20220706T200853Z
LAST-MODIFIED:20220706T200853Z
UID:596-1664582400-1664668799@quailhollowsubdivision.org
SUMMARY:Annual Dues are Due (2nd Installment)
DESCRIPTION:Annual dues are $400 and are due on July 1st. If you choose to do two installments\, $200 is due on July 1st and October 1st to total $400. Please contact us if you have any questions about your dues.
URL:https://quailhollowsubdivision.org/event/annual-dues-are-due-2nd-installment/
ATTACH;FMTTYPE=image/png:https://quailhollowsubdivision.org/wp-content/uploads/2018/12/deadline.png
END:VEVENT
BEGIN:VEVENT
DTSTART;TZID=UTC:20220828T133000
DTEND;TZID=UTC:20220828T160000
DTSTAMP:20260424T162850
CREATED:20220815T173843Z
LAST-MODIFIED:20220815T173843Z
UID:609-1661693400-1661702400@quailhollowsubdivision.org
SUMMARY:Quail Hollow Annual Picnic
DESCRIPTION:
URL:https://quailhollowsubdivision.org/event/quail-hollow-annual-picnic/
LOCATION:The Darr Residence\, 14534 Lightning Ridge Run\, Fort Wayne\, IN\, United States
ATTACH;FMTTYPE=image/png:https://quailhollowsubdivision.org/wp-content/uploads/2022/08/Blue-Yellow-and-Green-Banners-Fiesta-Party-Flyer.png
END:VEVENT
BEGIN:VEVENT
DTSTART;TZID=UTC:20220802T183000
DTEND;TZID=UTC:20220802T203000
DTSTAMP:20260424T162850
CREATED:20220706T195452Z
LAST-MODIFIED:20220706T195452Z
UID:591-1659465000-1659472200@quailhollowsubdivision.org
SUMMARY:2nd Annual National Night Out
DESCRIPTION:We will welcome Allen County Sheriff\, Lutheran Ground\, and Aboite Fire at our common areas. Kona Ice will be available for purchase.
URL:https://quailhollowsubdivision.org/event/2nd-annual-national-night-out/
ATTACH;FMTTYPE=image/png:https://quailhollowsubdivision.org/wp-content/uploads/2022/07/NNO-2022.png
END:VEVENT
BEGIN:VEVENT
DTSTART;TZID=UTC:20220706T183000
DTEND;TZID=UTC:20220706T193000
DTSTAMP:20260424T162850
CREATED:20220706T195103Z
LAST-MODIFIED:20220706T195541Z
UID:588-1657132200-1657135800@quailhollowsubdivision.org
SUMMARY:Annual HOA Meeting
DESCRIPTION:Please join us at the Bendall home.
URL:https://quailhollowsubdivision.org/event/annual-hoa-meeting-2/
ATTACH;FMTTYPE=image/jpeg:https://quailhollowsubdivision.org/wp-content/uploads/2022/07/unnamed.jpg
END:VEVENT
BEGIN:VEVENT
DTSTART;VALUE=DATE:20220701
DTEND;VALUE=DATE:20220702
DTSTAMP:20260424T162850
CREATED:20220706T200205Z
LAST-MODIFIED:20220706T200205Z
UID:594-1656633600-1656719999@quailhollowsubdivision.org
SUMMARY:Annual Dues are Due
DESCRIPTION:Annual dues are $400 and are due on July 1st. If you choose to do two installments\, $200 is due on July 1st and October 1st to total $400. Please contact us if you have any questions about your dues.
URL:https://quailhollowsubdivision.org/event/annual-dues-are-due/
ATTACH;FMTTYPE=image/png:https://quailhollowsubdivision.org/wp-content/uploads/2018/12/deadline.png
END:VEVENT
BEGIN:VEVENT
DTSTART;TZID=UTC:20211108T080000
DTEND;TZID=UTC:20211121T170000
DTSTAMP:20260424T162850
CREATED:20211102T155301Z
LAST-MODIFIED:20211102T155301Z
UID:577-1636358400-1637514000@quailhollowsubdivision.org
SUMMARY:4th Annual Thanksgiving Food Drive
DESCRIPTION:The annual tradition returns! November 8-21\, you can drop off any nonperishable food items to the blue bin at the end of Chrystal Marner’s driveway (5207 Halley View Run; 3rd house on the right after the entrance). She will take all donated items to the Community Harvest Food Bank the week of Thanksgiving to help our fellow citizens in need. Thank you for your years of incredible generosity and we hope for another great year!
URL:https://quailhollowsubdivision.org/event/4th-annual-thanksgiving-food-drive/
ATTACH;FMTTYPE=image/jpeg:https://quailhollowsubdivision.org/wp-content/uploads/2021/11/0001.jpg
END:VEVENT
BEGIN:VEVENT
DTSTART;TZID=UTC:20210629T183000
DTEND;TZID=UTC:20210629T200000
DTSTAMP:20260424T162850
CREATED:20210518T201629Z
LAST-MODIFIED:20210518T201629Z
UID:563-1624991400-1624996800@quailhollowsubdivision.org
SUMMARY:Annual HOA Meeting
DESCRIPTION:
URL:https://quailhollowsubdivision.org/event/annual-hoa-meeting/
END:VEVENT
BEGIN:VEVENT
DTSTART;TZID=UTC:20210430T080000
DTEND;TZID=UTC:20210430T140000
DTSTAMP:20260424T162850
CREATED:20210422T131521Z
LAST-MODIFIED:20210422T131521Z
UID:559-1619769600-1619791200@quailhollowsubdivision.org
SUMMARY:Quail Hollow Community Garage Sale
DESCRIPTION:
URL:https://quailhollowsubdivision.org/event/quail-hollow-community-garage-sale/
END:VEVENT
BEGIN:VEVENT
DTSTART;VALUE=DATE:20190201
DTEND;VALUE=DATE:20190202
DTSTAMP:20260424T162850
CREATED:20181217T060111Z
LAST-MODIFIED:20181217T060111Z
UID:400-1548979200-1549065599@quailhollowsubdivision.org
SUMMARY:Newsletter Submission Deadline
DESCRIPTION:Be sure to submit any content you would like published in the community newsletter by the 1st of the month.
URL:https://quailhollowsubdivision.org/event/newsletter-submission-deadline/
ATTACH;FMTTYPE=image/png:https://quailhollowsubdivision.org/wp-content/uploads/2018/12/deadline.png
ORGANIZER;CN="Chrystal Marner":MAILTO:chrystalmarner@live.com
END:VEVENT
BEGIN:VEVENT
DTSTART;TZID=UTC:20181220T180000
DTEND;TZID=UTC:20181220T190000
DTSTAMP:20260424T162850
CREATED:20181217T055641Z
LAST-MODIFIED:20181217T055641Z
UID:395-1545328800-1545332400@quailhollowsubdivision.org
SUMMARY:Quail Hollow Holiday Decorating Contest
DESCRIPTION:Get ready neighbors! Our littlest Quail Hollow residents will be walking the community on December 20th at sundown to see who really puts on quite the holiday display. The children will choose a 1st\, 2nd and 3rd place winner. It never hurts to treat your judges extra nice as they come to view your display ?. Interested in really treating those who set up amazing displays? Consider donating items for the winners’ awards. Be sure to tour the neighborhood as well and meet at the tennis court for the award ceremony!
URL:https://quailhollowsubdivision.org/event/quail-hollow-holiday-decorating-contest/
LOCATION:Quail Hollow
ATTACH;FMTTYPE=image/png:https://quailhollowsubdivision.org/wp-content/uploads/2018/12/6tGwmac.png
ORGANIZER;CN="Chrystal Marner":MAILTO:chrystalmarner@live.com
END:VEVENT
END:VCALENDAR