BEGIN:VCALENDAR
VERSION:2.0
PRODID:-//Quail Hollow Homeowners Association - ECPv6.15.20//NONSGML v1.0//EN
CALSCALE:GREGORIAN
METHOD:PUBLISH
X-ORIGINAL-URL:https://quailhollowsubdivision.org
X-WR-CALDESC:Events for Quail Hollow Homeowners Association
REFRESH-INTERVAL;VALUE=DURATION:PT1H
X-Robots-Tag:noindex
X-PUBLISHED-TTL:PT1H
BEGIN:VTIMEZONE
TZID:UTC
BEGIN:STANDARD
TZOFFSETFROM:+0000
TZOFFSETTO:+0000
TZNAME:UTC
DTSTART:20170101T000000
END:STANDARD
END:VTIMEZONE
BEGIN:VEVENT
DTSTART;TZID=UTC:20210629T183000
DTEND;TZID=UTC:20210629T200000
DTSTAMP:20260424T173614
CREATED:20210518T201629Z
LAST-MODIFIED:20210518T201629Z
UID:563-1624991400-1624996800@quailhollowsubdivision.org
SUMMARY:Annual HOA Meeting
DESCRIPTION:
URL:https://quailhollowsubdivision.org/event/annual-hoa-meeting/
END:VEVENT
BEGIN:VEVENT
DTSTART;TZID=UTC:20210430T080000
DTEND;TZID=UTC:20210430T140000
DTSTAMP:20260424T173614
CREATED:20210422T131521Z
LAST-MODIFIED:20210422T131521Z
UID:559-1619769600-1619791200@quailhollowsubdivision.org
SUMMARY:Quail Hollow Community Garage Sale
DESCRIPTION:
URL:https://quailhollowsubdivision.org/event/quail-hollow-community-garage-sale/
END:VEVENT
BEGIN:VEVENT
DTSTART;VALUE=DATE:20190201
DTEND;VALUE=DATE:20190202
DTSTAMP:20260424T173614
CREATED:20181217T060111Z
LAST-MODIFIED:20181217T060111Z
UID:400-1548979200-1549065599@quailhollowsubdivision.org
SUMMARY:Newsletter Submission Deadline
DESCRIPTION:Be sure to submit any content you would like published in the community newsletter by the 1st of the month.
URL:https://quailhollowsubdivision.org/event/newsletter-submission-deadline/
ATTACH;FMTTYPE=image/png:https://quailhollowsubdivision.org/wp-content/uploads/2018/12/deadline.png
ORGANIZER;CN="Chrystal Marner":MAILTO:chrystalmarner@live.com
END:VEVENT
BEGIN:VEVENT
DTSTART;TZID=UTC:20181220T180000
DTEND;TZID=UTC:20181220T190000
DTSTAMP:20260424T173614
CREATED:20181217T055641Z
LAST-MODIFIED:20181217T055641Z
UID:395-1545328800-1545332400@quailhollowsubdivision.org
SUMMARY:Quail Hollow Holiday Decorating Contest
DESCRIPTION:Get ready neighbors! Our littlest Quail Hollow residents will be walking the community on December 20th at sundown to see who really puts on quite the holiday display. The children will choose a 1st\, 2nd and 3rd place winner. It never hurts to treat your judges extra nice as they come to view your display ?. Interested in really treating those who set up amazing displays? Consider donating items for the winners’ awards. Be sure to tour the neighborhood as well and meet at the tennis court for the award ceremony!
URL:https://quailhollowsubdivision.org/event/quail-hollow-holiday-decorating-contest/
LOCATION:Quail Hollow
ATTACH;FMTTYPE=image/png:https://quailhollowsubdivision.org/wp-content/uploads/2018/12/6tGwmac.png
ORGANIZER;CN="Chrystal Marner":MAILTO:chrystalmarner@live.com
END:VEVENT
END:VCALENDAR